BEGIN:VCALENDAR
VERSION:2.0
PRODID:-//SerenaGroup - ECPv6.15.20//NONSGML v1.0//EN
CALSCALE:GREGORIAN
METHOD:PUBLISH
X-ORIGINAL-URL:https://old.serenagroups.com
X-WR-CALDESC:Events for SerenaGroup
REFRESH-INTERVAL;VALUE=DURATION:PT1H
X-Robots-Tag:noindex
X-PUBLISHED-TTL:PT1H
BEGIN:VTIMEZONE
TZID:America/New_York
BEGIN:DAYLIGHT
TZOFFSETFROM:-0500
TZOFFSETTO:-0400
TZNAME:EDT
DTSTART:20230312T070000
END:DAYLIGHT
BEGIN:STANDARD
TZOFFSETFROM:-0400
TZOFFSETTO:-0500
TZNAME:EST
DTSTART:20231105T060000
END:STANDARD
BEGIN:DAYLIGHT
TZOFFSETFROM:-0500
TZOFFSETTO:-0400
TZNAME:EDT
DTSTART:20240310T070000
END:DAYLIGHT
BEGIN:STANDARD
TZOFFSETFROM:-0400
TZOFFSETTO:-0500
TZNAME:EST
DTSTART:20241103T060000
END:STANDARD
BEGIN:DAYLIGHT
TZOFFSETFROM:-0500
TZOFFSETTO:-0400
TZNAME:EDT
DTSTART:20250309T070000
END:DAYLIGHT
BEGIN:STANDARD
TZOFFSETFROM:-0400
TZOFFSETTO:-0500
TZNAME:EST
DTSTART:20251102T060000
END:STANDARD
END:VTIMEZONE
BEGIN:VEVENT
DTSTART;VALUE=DATE:20240418
DTEND;VALUE=DATE:20240422
DTSTAMP:20260421T044340
CREATED:20231024T155734Z
LAST-MODIFIED:20231024T155734Z
UID:6412-1713398400-1713743999@old.serenagroups.com
SUMMARY:Introduction to Hyperbaric Medicine Course = ProMedica Toledo Hospital
DESCRIPTION:FACULTY:\nThomas Serena\, MD\nTim Mayhugh \nThis activity has been planned and implemented by Amedco LLC and SerenaGroup®. Amedco LLC is jointly accredited by the Accreditation Council for Continuing Medical Education (ACCME)\, the Accreditation Council for Pharmacy Education (ACPE)\, and the American Nurses Credentialing Center (ANCC)\, to provide continuing education for the healthcare team. \nThis 40-hour course in hyperbaric medicine is designed for physicians\, nurses\, and technicians to provide an introduction to the use of hyperbaric oxygen therapy in clinical practice. Upon completion of this course\, you will be able to demonstrate knowledge and understanding specific to your discipline through discussion\, didactic and hands on participation. \n\n\n                \n                        \n                            Introduction to HBOT Course Registration\n                             \n                        \n                        Name*\n                            \n                            \n                                                    \n                                                    First\n                                                \n                            \n                            \n                                                    \n                                                    Last\n                                                \n                            \n                        Email*\n                            \n                        Hospital Name*TitlePlease selectMDDONPPARNLPNCHTOtherIf Other*Please speficyLicense Number*Select Course Date*West Palm Beach\, FL: August 14-17\, 2025Monroeville\, PA: August 9-12\, 2025Discount CodeIntroduction to HBOT Registration*Please select from the following options:Please SelectPhysician (MD/DO/DPM)APPs (NP/PA)Tech/NursesIntroduction to HBOT Registration*Please select from the following options:Please SelectPhysician (MD/DO/DPM)APPs (NP/PA)Tech/NursesTotal\n							$0.00\n							\n						Credit Card*\n					\n						Cardholder Name\n					\n					\n						Card Details
URL:https://old.serenagroups.com/event/hbocoursepromedica/
LOCATION:Promedica Toledo Hospital\, 2142 N Cove Blvd\,\, Toledo\, OH\, 43606
CATEGORIES:Hyperbaric Center,Introductory
ATTACH;FMTTYPE=image/jpeg:https://old.serenagroups.com/wp-content/uploads/2020/02/HBO-rendering-Deborah_1-e1591875226581.jpg
END:VEVENT
END:VCALENDAR